BEGIN:VCALENDAR
VERSION:2.0
PRODID:-//hacksw/handcal//NONSGML v1.0//EN
CALSCALE:GREGORIAN
BEGIN:VEVENT
LOCATION:Micro-crèche Babilou Pérenchies Agache, Rue Edouard Agache, Pérenchies, France
DESCRIPTION:🏡 Participez à la Journée Portes Ouvertes de la micro-crèche Babilou Pérenchies Agache !Vous souhaitez découvrir un lieu chaleureux et adapté au développement des tout-petits ?Nous vous invitons à notre Journée Portes Ouvertes, une belle occasion de visiter la micro-crèche et de rencontrer notre équipe.🔎 Venez découvrir notre environnement pensé pour favoriser l’éveil, l’autonomie et le bien-être des enfants, et échanger avec les professionnels qui les accompagnent chaque jour avec bienveillance.Nous vous attendons le mardi 12 mai 2026 de 18:30 à 19:30 !&nbsp;📘 Au programme :• Visite de la structure• Présentation de l’équipe• Présentation de nos projets pédagogiques et du quotidien à la micro-crèche• Temps d’échanges avec les familles• Possibilité d’établir un devis pour les personnes intéressées📍 Coordonnées :Micro-crèche Babilou Pérenchies AgacheRue Edouard Agache59840 PERENCHIES📝 Inscription recommandée pour participer à ce moment convivial et découvrir un lieu pensé pour l’épanouissement des jeunes enfants.Nous serons ravis de vous accueillir et de vous faire découvrir notre univers 🧸 (https://www.babilou.fr/evenements/journee-portes-ouvertes-de-la-micro-creche-babilou-perenchies-agache)
DTSTART:20260512T163000Z
DTEND:20260512T173000Z
SUMMARY:Journée Portes Ouvertes de la micro-crèche Babilou Pérenchies Agache ! 
TITLE:Journée Portes Ouvertes de la micro-crèche Babilou Pérenchies Agache ! 
DTSTAMP:20260425T053454Z
UID:69ec365e0b6e4
END:VEVENT
END:VCALENDAR