BEGIN:VCALENDAR
VERSION:2.0
PRODID:-//hacksw/handcal//NONSGML v1.0//EN
CALSCALE:GREGORIAN
BEGIN:VEVENT
LOCATION:Micro-crèche Babilou Capinghem Mandela, Avenue Nelson Mandela, Capinghem, France
DESCRIPTION:🏡 Participez à la Journée Portes Ouvertes de la micro-crèche Babilou Capinghem Mandela !Vous souhaitez découvrir un lieu chaleureux et adapté au développement des tout-petits ?Nous vous invitons à notre Journée Portes Ouvertes, l’occasion idéale pour visiter la micro-crèche et rencontrer notre équipe.🔎 Venez découvrir notre environnement pensé pour favoriser l’éveil, l’autonomie et le bien-être des enfants, et échanger avec les professionnels qui les accompagnent au quotidien avec bienveillance.Nous vous attendons le lundi 04 mai 2026 de 18:30 à 19:30 !&nbsp;📘 Au programme :• Visite de la structure• Présentation de l’équipe• Présentation de nos projets pédagogiques et du quotidien à la micro-crèche• Temps d’échanges avec les familles et l'équipe Babilou📍 Coordonnées :Micro-crèche Babilou Capinghem MandelaAvenue Nelson Mandela59160 CAPINGHEM📝 Inscription recommandée pour participer à cette rencontre conviviale et découvrir un lieu pensé pour l’épanouissement des jeunes enfants.Nous avons hâte de vous accueillir et de vous faire découvrir notre univers 🧸 (https://www.babilou.fr/evenements/journee-portes-ouvertes-de-la-micro-creche-babilou-capinghem-mandela-0)
DTSTART:20260504T163000Z
DTEND:20260504T173000Z
SUMMARY:Journée Portes Ouvertes de la micro-crèche Babilou Capinghem Mandela !
TITLE:Journée Portes Ouvertes de la micro-crèche Babilou Capinghem Mandela !
DTSTAMP:20260425T053916Z
UID:69ec37643e68b
END:VEVENT
END:VCALENDAR